BEGIN:VCALENDAR
METHOD:PUBLISH
VERSION:2.0
PRODID:-//CDA Bicycle Assembly//Calendar//EN

BEGIN:VEVENT
SUMMARY:North Fulton | CDA Bicycle Assembly
DESCRIPTION:Join us at 89 Grove Way in Roswell
X-ALT-DESC:<p>Join us at 89 Grove Way in Roswell</p>
UID:Event6702
DTSTART:20221201T150000Z
DTEND:20221201T200000Z
DTSTAMP:20221107T222235Z
LAST-MODIFIED:20221107T222326Z
END:VEVENT

END:VCALENDAR