BEGIN:VCALENDAR
METHOD:PUBLISH
VERSION:2.0
PRODID:-//Family of Rotary Picnic//Calendar//EN

BEGIN:VEVENT
SUMMARY:North Fulton | Family of Rotary Picnic
DESCRIPTION:Come join us celebrate President Lisa at our year end family picnic at the Rotary All Access Playground Pavilion at North Park in Alpharetta\, GA
X-ALT-DESC:<p>Come join us celebrate President Lisa at our year end family picnic at the Rotary All Access Playground Pavilion at North Park in Alpharetta, GA</p>
UID:Event6936
DTSTART:20230624T210000Z
DTEND:20230624T230000Z
DTSTAMP:20230403T185327Z
LAST-MODIFIED:20230612T201800Z
END:VEVENT

END:VCALENDAR