BEGIN:VCALENDAR
METHOD:PUBLISH
VERSION:2.0
PRODID:-//Greenway Mural Art Project//Calendar//EN

BEGIN:VEVENT
SUMMARY:North Fulton | Greenway Mural Art Project
DESCRIPTION:Students from various high schools will be painting 7 foot man holes through out the Greenway to help beautiful Alpharetta.  Go to Sign Up Genius to volunteer for this event.Click on the link below to volunteer.<span style="font-size:10.0pt;font-family:"Georgia"\,serif;
color:#333333">https://www.signupgenius.com/go/70A0B4CA9A922A7FA7-51622015-turrets
X-ALT-DESC:<p>Students from various high schools will be painting 7 foot man holes through out the Greenway to help beautiful Alpharetta.&nbsp; Go to Sign Up Genius to volunteer for this event.</p><p>Click on the link below to volunteer.</p><p style="line-height:15.0pt"><span style="font-size:10.0pt;font-family:&quot;Georgia&quot;,serif;
color:#333333"><a href="https://rotary6900.org/email/click?e=19246&amp;u=21408&amp;l=https://www.signupgenius.com/go/70A0B4CA9A922A7FA7-51622015-turrets" target="_blank">https://www.signupgenius.com/go/70A0B4CA9A922A7FA7-51622015-turrets</a><o:p></o:p></span></p>
UID:Event8147
DTSTART:20241005T120000Z
DTEND:20241006T210000Z
DTSTAMP:20240927T220052Z
LAST-MODIFIED:20241001T182030Z
END:VEVENT

END:VCALENDAR