BEGIN:VCALENDAR
METHOD:PUBLISH
VERSION:2.0
PRODID:-//CPR Training at Alpharetta City Hall//Calendar//EN

BEGIN:VEVENT
SUMMARY:North Fulton | CPR Training at Alpharetta City Hall
DESCRIPTION:
X-ALT-DESC:
UID:Event8292
DTSTART:20250109T233000Z
DTEND:20250110T003000Z
DTSTAMP:20250109T144233Z
LAST-MODIFIED:20250109T144233Z
END:VEVENT

END:VCALENDAR