BEGIN:VCALENDAR
METHOD:PUBLISH
VERSION:2.0
PRODID:-//CPR Training//Calendar//EN

BEGIN:VEVENT
SUMMARY:North Fulton | CPR Training
DESCRIPTION:Alpharetta City Hall
X-ALT-DESC:<p>Alpharetta City Hall</p>
UID:Event8300
DTSTART:20250204T233000Z
DTEND:20250205T003000Z
DTSTAMP:20250109T151603Z
LAST-MODIFIED:20250109T151603Z
END:VEVENT

END:VCALENDAR