BEGIN:VCALENDAR
METHOD:PUBLISH
VERSION:2.0
PRODID:-//Rise Against Hunger with Cambridge High Interact//Calendar//EN

BEGIN:VEVENT
SUMMARY:North Fulton | Rise Against Hunger with Cambridge High Interact
DESCRIPTION:Join us to pack meals to fight hunger in areas struck by natural disasters\, war or poverty. We will join together with Cambridge High School Interact students and Milton First Responders to pack thousands of meals. A few volunteers are needed to arrive at 2:30 pm to help with set up\, but the majority will arrive at 3:45 pm.Sign up here: https://www.riseagainsthunger.org/register/?id=701Pj00000VaPPXIA3Address: Cambridge High School Cafeteria\, 2845 Bethany Bend\, Milton\, GAThe cafeteria is located on Cogburn Road side of the campus. Parking available behind the school. 
X-ALT-DESC:<p>Join us to pack meals to fight hunger in areas struck by natural disasters, war or poverty. We will join together with Cambridge High School Interact students and Milton First Responders to pack thousands of meals. A few volunteers are needed to arrive at 2:30 pm to help with set up, but the majority will arrive at 3:45 pm.</p><p>Sign up here:&nbsp;https://www.riseagainsthunger.org/register/?id=701Pj00000VaPPXIA3</p><p>Address: Cambridge High School Cafeteria, 2845 Bethany Bend, Milton, GA</p><p>The cafeteria is located on Cogburn Road side of the campus. Parking available behind the school.&nbsp;</p>
UID:Event8451
DTSTART:20250422T194500Z
DTEND:20250422T220000Z
DTSTAMP:20250319T232912Z
LAST-MODIFIED:20250408T171824Z
END:VEVENT

END:VCALENDAR