BEGIN:VCALENDAR
METHOD:PUBLISH
VERSION:2.0
PRODID:-//Interfaith Prayer Breakfast//Calendar//EN

BEGIN:VEVENT
SUMMARY:North Fulton | Interfaith Prayer Breakfast
DESCRIPTION:Location:St. David's Episcopal Church 1015 Old Roswell Road\, Roswell\, GA
X-ALT-DESC:<p>Location:</p><p>St. David's Episcopal Church&nbsp;</p><p>1015 Old Roswell Road, Roswell, GA</p>
UID:Event8455
DTSTART:20250501T110000Z
DTEND:20250501T130000Z
DTSTAMP:20250320T191101Z
LAST-MODIFIED:20250320T191101Z
END:VEVENT

END:VCALENDAR