BEGIN:VCALENDAR
METHOD:PUBLISH
VERSION:2.0
PRODID:-//Board Meeting//Calendar//EN

BEGIN:VEVENT
SUMMARY:North Fulton | Board Meeting
DESCRIPTION:Location: American Pride Bank\, 6503 North Point Pkwy\, Alpharetta
X-ALT-DESC:<p>Location: American Pride Bank, 6503 North Point Pkwy, Alpharetta</p>
UID:Event8456
DTSTART:20250417T203000Z
DTEND:20250417T220000Z
DTSTAMP:20250320T191909Z
LAST-MODIFIED:20250320T191909Z
END:VEVENT

END:VCALENDAR