BEGIN:VCALENDAR
METHOD:PUBLISH
VERSION:2.0
PRODID:-//New Member Orientation//Calendar//EN

BEGIN:VEVENT
SUMMARY:North Fulton | New Member Orientation
DESCRIPTION:New Member Orientation will be held before our regularly-scheduled lunch meeting at Brimstone. 
X-ALT-DESC:<p>New Member Orientation will be held before our regularly-scheduled lunch meeting at Brimstone.&nbsp;</p>
UID:Event8524
DTSTART:20250610T144500Z
DTEND:20250610T154500Z
DTSTAMP:20250430T024529Z
LAST-MODIFIED:20250430T024529Z
END:VEVENT

END:VCALENDAR