BEGIN:VCALENDAR
METHOD:PUBLISH
VERSION:2.0
PRODID:-//Back to School Supplies for NFCC//Calendar//EN

BEGIN:VEVENT
SUMMARY:North Fulton | Back to School Supplies for NFCC
DESCRIPTION:Please stay after the July 22nd meeting to help sort/organize school supplies donated by our membership to North Fulton Community Charities! 
X-ALT-DESC:<p>Please stay after the July 22nd meeting to help sort/organize school supplies donated by our membership to North Fulton Community Charities!&nbsp;</p>
UID:Event8690
DTSTART:20250722T170000Z
DTEND:20250722T173000Z
DTSTAMP:20250624T171836Z
LAST-MODIFIED:20250624T171836Z
END:VEVENT

END:VCALENDAR