BEGIN:VCALENDAR
METHOD:PUBLISH
VERSION:2.0
PRODID:-//CPR/AED Class//Calendar//EN

BEGIN:VEVENT
SUMMARY:North Fulton | CPR/AED Class
DESCRIPTION:Join us on our mission to train 1\,000 North Fulton residents in CPR and AED TrainingLocation: Alpharetta City Hall\, 2 Park Plaza\, Alpharetta\, GATo Sign Up: https://www.signupgenius.com/go/8050B4EA8AC22A64-57516462-adult#/
X-ALT-DESC:<p>Join us on our mission to train 1,000 North Fulton residents in CPR and AED Training</p><p>Location: Alpharetta City Hall, 2 Park Plaza, Alpharetta, GA</p><p>To Sign Up:&nbsp;https://www.signupgenius.com/go/8050B4EA8AC22A64-57516462-adult#/</p>
UID:Event8806
DTSTART:20250730T223000Z
DTEND:20250731T000000Z
DTSTAMP:20250711T220658Z
LAST-MODIFIED:20250711T221230Z
END:VEVENT

END:VCALENDAR