BEGIN:VCALENDAR
METHOD:PUBLISH
VERSION:2.0
PRODID:-//AED/CPR Training//Calendar//EN

BEGIN:VEVENT
SUMMARY:North Fulton | AED/CPR Training
DESCRIPTION:Join us in our mission to train 1\,000 North Fulton Residents in CPR/AED Training!Location: Wellstar North Fulton Hospital\, 3000 Hospital Blvd\, Roswell\, GATo Sign up: https://www.signupgenius.com/go/8050B4EA8AC22A64-57345623-cpraedchoking?useFullSite=true
X-ALT-DESC:<p>Join us in our mission to train 1,000 North Fulton Residents in CPR/AED Training!</p><p>Location: Wellstar North Fulton Hospital, 3000 Hospital Blvd, Roswell, GA</p><p>To Sign up:&nbsp;https://www.signupgenius.com/go/8050B4EA8AC22A64-57345623-cpraedchoking?useFullSite=true</p><p><br></p>
UID:Event8807
DTSTART:20250722T220000Z
DTEND:20250722T233000Z
DTSTAMP:20250711T221124Z
LAST-MODIFIED:20250711T221124Z
END:VEVENT

END:VCALENDAR