BEGIN:VCALENDAR
METHOD:PUBLISH
VERSION:2.0
PRODID:-//Companion Club Meeting//Calendar//EN

BEGIN:VEVENT
SUMMARY:North Fulton | Companion Club Meeting
DESCRIPTION:Rescheduled monthly Companion Club meeting at Thrive\, 44 Milton Avenue\, Alpharetta\, GA
X-ALT-DESC:<p>Rescheduled monthly Companion Club meeting at Thrive, 44 Milton Avenue, Alpharetta, GA</p>
UID:Event8831
DTSTART:20250724T230000Z
DTEND:20250725T000000Z
DTSTAMP:20250717T215851Z
LAST-MODIFIED:20250717T215851Z
END:VEVENT

END:VCALENDAR