BEGIN:VCALENDAR
METHOD:PUBLISH
VERSION:2.0
PRODID:-//Working Social//Calendar//EN

BEGIN:VEVENT
SUMMARY:North Fulton | Working Social
DESCRIPTION:We will meet at Rock Mill Park to prepare paint and supplies for our artists. Time TBD
X-ALT-DESC:<p>We will meet at Rock Mill Park to prepare paint and supplies for our artists. Time TBD</p>
UID:Event9020
DTSTART:20251002T040000Z
DTEND:20251002T040000Z
DTSTAMP:20250915T044132Z
LAST-MODIFIED:20250915T044132Z
END:VEVENT

END:VCALENDAR