BEGIN:VCALENDAR
METHOD:PUBLISH
VERSION:2.0
PRODID:-//First Thursday Social//Calendar//EN

BEGIN:VEVENT
SUMMARY:North Fulton | First Thursday Social
DESCRIPTION:Join us at Lucky's\, 1144 Alpharetta Street\, Roswell\, GA for some fellowship on the first Thursday of November! 
X-ALT-DESC:<p>Join us at Lucky's, 1144 Alpharetta Street, Roswell, GA for some fellowship on the first Thursday of November!&nbsp;</p>
UID:Event9072
DTSTART:20251106T230000Z
DTEND:20251107T003000Z
DTSTAMP:20251014T230942Z
LAST-MODIFIED:20251014T230942Z
END:VEVENT

END:VCALENDAR