BEGIN:VCALENDAR
METHOD:PUBLISH
VERSION:2.0
PRODID:-//Holiday Party//Calendar//EN

BEGIN:VEVENT
SUMMARY:North Fulton | Holiday Party
DESCRIPTION:Join us to celebrate the season at Mac Magee's\, 936 Canton Street\, Roswell\, GA
X-ALT-DESC:<p>Join us to celebrate the season at Mac Magee's, 936 Canton Street, Roswell, GA</p>
UID:Event9108
DTSTART:20251204T230000Z
DTEND:20251205T020000Z
DTSTAMP:20251021T060847Z
LAST-MODIFIED:20251021T060847Z
END:VEVENT

END:VCALENDAR