BEGIN:VCALENDAR
METHOD:PUBLISH
VERSION:2.0
PRODID:-//Crafts, Bingo and Lunch at Milton Senior Center//Calendar//EN

BEGIN:VEVENT
SUMMARY:North Fulton | Crafts, Bingo and Lunch at Milton Senior Center
DESCRIPTION:This year\, we are using our District Community Grant funds to engage with seniors in our North Fulton Community. We will lead them in a craft\, bingo games and provide lunch to them on December 2nd. Location: Milton Senior Center\, 15690 Hopewell Road\, Alpharetta\, GA 30004A sign-up genius will be created as we get closer to this date. You do not need to participate in all activities. The general timeframe will be:10:00 am: craft project11:00 am: bingo games12:00 pm: lunchQuestions: Call Lisa at (770) 856-9509
X-ALT-DESC:<p>This year, we are using our District Community Grant funds to engage with seniors in our North Fulton Community. We will lead them in a craft, bingo games and provide lunch to them on December 2nd.&nbsp;</p><p>Location: Milton Senior Center, 15690 Hopewell Road, Alpharetta, GA 30004</p><p>A sign-up genius will be created as we get closer to this date. You do not need to participate in all activities. The general timeframe will be:</p><p>10:00 am: craft project</p><p>11:00 am: bingo games</p><p>12:00 pm: lunch</p><p>Questions: Call Lisa at (770) 856-9509</p>
UID:Event9114
DTSTART:20251202T150000Z
DTEND:20251202T174500Z
DTSTAMP:20251104T061404Z
LAST-MODIFIED:20251104T061404Z
END:VEVENT

END:VCALENDAR