BEGIN:VCALENDAR
METHOD:PUBLISH
VERSION:2.0
PRODID:-//Companion Club Meeting//Calendar//EN

BEGIN:VEVENT
SUMMARY:North Fulton | Companion Club Meeting
DESCRIPTION:The Companion Club meets on the third Thursday of each month at Thrive (above Minnie Olivia Pizza) 44 Milton Avenue\, Alpharetta\, GAQuestions: call Joseph Powell at (912) 662-2246
X-ALT-DESC:<p>The Companion Club meets on the third Thursday of each month at Thrive (above Minnie Olivia Pizza)&nbsp;</p><p>44 Milton Avenue, Alpharetta, GA</p><p>Questions: call Joseph Powell at (912) 662-2246</p>
UID:Event9183
DTSTART:20260115T233000Z
DTEND:20260116T003000Z
DTSTAMP:20251202T064432Z
LAST-MODIFIED:20251202T064432Z
END:VEVENT

END:VCALENDAR